BEGIN:VCALENDAR
VERSION:2.0
PRODID:-//Vehkalahden Veikot - ECPv6.15.20//NONSGML v1.0//EN
CALSCALE:GREGORIAN
METHOD:PUBLISH
X-WR-CALNAME:Vehkalahden Veikot
X-ORIGINAL-URL:https://www.vehkalahdenveikot.fi
X-WR-CALDESC:Tapahtumat Vehkalahden Veikot
REFRESH-INTERVAL;VALUE=DURATION:PT1H
X-Robots-Tag:noindex
X-PUBLISHED-TTL:PT1H
BEGIN:VTIMEZONE
TZID:Europe/Helsinki
BEGIN:DAYLIGHT
TZOFFSETFROM:+0200
TZOFFSETTO:+0300
TZNAME:EEST
DTSTART:20250330T010000
END:DAYLIGHT
BEGIN:STANDARD
TZOFFSETFROM:+0300
TZOFFSETTO:+0200
TZNAME:EET
DTSTART:20251026T010000
END:STANDARD
BEGIN:DAYLIGHT
TZOFFSETFROM:+0200
TZOFFSETTO:+0300
TZNAME:EEST
DTSTART:20260329T010000
END:DAYLIGHT
BEGIN:STANDARD
TZOFFSETFROM:+0300
TZOFFSETTO:+0200
TZNAME:EET
DTSTART:20261025T010000
END:STANDARD
BEGIN:DAYLIGHT
TZOFFSETFROM:+0200
TZOFFSETTO:+0300
TZNAME:EEST
DTSTART:20270328T010000
END:DAYLIGHT
BEGIN:STANDARD
TZOFFSETFROM:+0300
TZOFFSETTO:+0200
TZNAME:EET
DTSTART:20271031T010000
END:STANDARD
END:VTIMEZONE
BEGIN:VEVENT
DTSTART;TZID=Europe/Helsinki:20260917T170000
DTEND;TZID=Europe/Helsinki:20260917T200000
DTSTAMP:20260421T124943
CREATED:20260407T171757Z
LAST-MODIFIED:20260407T171757Z
UID:16204-1789664400-1789675200@www.vehkalahdenveikot.fi
SUMMARY:Rannikkorastit Vehkalinnassa
DESCRIPTION:VeVe järjestää  rannarit  Husulan Vehkalinnassa.  \nRatamestari: hakusessa\nTulospalvelu: hakusessa\nJärjestäjä: Hakusessa  \nLisätietoja Rannikkorastien sivuilta.
URL:https://www.vehkalahdenveikot.fi/event/rannikkorastit-vehkalinnassa/
CATEGORIES:Suunnistus
END:VEVENT
BEGIN:VEVENT
DTSTART;TZID=Europe/Helsinki:20260917T190000
DTEND;TZID=Europe/Helsinki:20260917T200000
DTSTAMP:20260421T124944
CREATED:20260407T180153Z
LAST-MODIFIED:20260407T180153Z
UID:16228-1789671600-1789675200@www.vehkalahdenveikot.fi
SUMMARY:HIPPOSUUNNISTUS VEHKALINNA
DESCRIPTION:HIpposuunnistus kokoontuu  Husulan Vehkalinnassa. VEHKALINNANTIE 10. \nHämäräsuunnistus ja  päättäjäiset! Paistetaan  myös makkaraa  ja  muuta  sellaista  kivaa! \nAlustava  aikataulu  19.00.
URL:https://www.vehkalahdenveikot.fi/event/hipposuunnistus-vehkalinna/
CATEGORIES:Suunnistus
END:VEVENT
END:VCALENDAR