BEGIN:VCALENDAR
VERSION:2.0
PRODID:-//Vehkalahden Veikot - ECPv6.15.20//NONSGML v1.0//EN
CALSCALE:GREGORIAN
METHOD:PUBLISH
X-WR-CALNAME:Vehkalahden Veikot
X-ORIGINAL-URL:https://www.vehkalahdenveikot.fi
X-WR-CALDESC:Tapahtumat Vehkalahden Veikot
REFRESH-INTERVAL;VALUE=DURATION:PT1H
X-Robots-Tag:noindex
X-PUBLISHED-TTL:PT1H
BEGIN:VTIMEZONE
TZID:Europe/Helsinki
BEGIN:DAYLIGHT
TZOFFSETFROM:+0200
TZOFFSETTO:+0300
TZNAME:EEST
DTSTART:20240331T010000
END:DAYLIGHT
BEGIN:STANDARD
TZOFFSETFROM:+0300
TZOFFSETTO:+0200
TZNAME:EET
DTSTART:20241027T010000
END:STANDARD
BEGIN:DAYLIGHT
TZOFFSETFROM:+0200
TZOFFSETTO:+0300
TZNAME:EEST
DTSTART:20250330T010000
END:DAYLIGHT
BEGIN:STANDARD
TZOFFSETFROM:+0300
TZOFFSETTO:+0200
TZNAME:EET
DTSTART:20251026T010000
END:STANDARD
BEGIN:DAYLIGHT
TZOFFSETFROM:+0200
TZOFFSETTO:+0300
TZNAME:EEST
DTSTART:20260329T010000
END:DAYLIGHT
BEGIN:STANDARD
TZOFFSETFROM:+0300
TZOFFSETTO:+0200
TZNAME:EET
DTSTART:20261025T010000
END:STANDARD
END:VTIMEZONE
BEGIN:VEVENT
DTSTART;TZID=Europe/Helsinki:20250903T080000
DTEND;TZID=Europe/Helsinki:20250914T220000
DTSTAMP:20260421T161210
CREATED:20250831T191643Z
LAST-MODIFIED:20250903T075752Z
UID:15506-1756886400-1757887200@www.vehkalahdenveikot.fi
SUMMARY:KSOY-omatoimirastit Metsäkylä/Markkulan tienoo
DESCRIPTION:KSOY-omatoimirastit avautuvat\, kun saadaan karttapäivitys valmiiksi. Nyt kartat lotassa ja ilmolinkki tehty KSOY- sivuille.\nLisätietoja  KSOY-omatoimirastit sivuilta.
URL:https://www.vehkalahdenveikot.fi/event/ksoy-omatoimirastit-metsakyla/
CATEGORIES:Suunnistus
END:VEVENT
BEGIN:VEVENT
DTSTART;TZID=Europe/Helsinki:20250911T170000
DTEND;TZID=Europe/Helsinki:20250911T200000
DTSTAMP:20260421T161210
CREATED:20250812T153156Z
LAST-MODIFIED:20250812T153156Z
UID:15397-1757610000-1757620800@www.vehkalahdenveikot.fi
SUMMARY:Rannikkorastit Neuvoton Mäkelänkangas
DESCRIPTION:Ratamestari Joona Hirvilahti.\n’Lisätietoja VeVen sivuilta.
URL:https://www.vehkalahdenveikot.fi/event/rannikkorastit-neuvoton-makelankangas/
CATEGORIES:Suunnistus
END:VEVENT
BEGIN:VEVENT
DTSTART;TZID=Europe/Helsinki:20250911T180000
DTEND;TZID=Europe/Helsinki:20250911T190000
DTSTAMP:20260421T161210
CREATED:20250909T160059Z
LAST-MODIFIED:20250909T160059Z
UID:15525-1757613600-1757617200@www.vehkalahdenveikot.fi
SUMMARY:Poluton harjoitus to 11.9. klo 18
DESCRIPTION:Rannikkorastien yhteydessä  pidetään Poluton harjoitus. Ota siis  KOMPASSI mukaan. \nIlmolinkki:https://forms.gle/nEqvAjUQ6xgFJfz59 \nIlmoittautuneet:https://docs.google.com/spreadsheets/d/18TF1g5KqULWOeXbym20EGkSxOJGQcjWXsTvT0slEAXI/edit?usp=sharing
URL:https://www.vehkalahdenveikot.fi/event/poluton-harjoitus-to-11-9-klo-18/
END:VEVENT
END:VCALENDAR