BEGIN:VCALENDAR
VERSION:2.0
PRODID:-//Vehkalahden Veikot - ECPv6.15.20//NONSGML v1.0//EN
CALSCALE:GREGORIAN
METHOD:PUBLISH
X-WR-CALNAME:Vehkalahden Veikot
X-ORIGINAL-URL:https://www.vehkalahdenveikot.fi
X-WR-CALDESC:Tapahtumat Vehkalahden Veikot
REFRESH-INTERVAL;VALUE=DURATION:PT1H
X-Robots-Tag:noindex
X-PUBLISHED-TTL:PT1H
BEGIN:VTIMEZONE
TZID:Europe/Helsinki
BEGIN:DAYLIGHT
TZOFFSETFROM:+0200
TZOFFSETTO:+0300
TZNAME:EEST
DTSTART:20240331T010000
END:DAYLIGHT
BEGIN:STANDARD
TZOFFSETFROM:+0300
TZOFFSETTO:+0200
TZNAME:EET
DTSTART:20241027T010000
END:STANDARD
BEGIN:DAYLIGHT
TZOFFSETFROM:+0200
TZOFFSETTO:+0300
TZNAME:EEST
DTSTART:20250330T010000
END:DAYLIGHT
BEGIN:STANDARD
TZOFFSETFROM:+0300
TZOFFSETTO:+0200
TZNAME:EET
DTSTART:20251026T010000
END:STANDARD
BEGIN:DAYLIGHT
TZOFFSETFROM:+0200
TZOFFSETTO:+0300
TZNAME:EEST
DTSTART:20260329T010000
END:DAYLIGHT
BEGIN:STANDARD
TZOFFSETFROM:+0300
TZOFFSETTO:+0200
TZNAME:EET
DTSTART:20261025T010000
END:STANDARD
END:VTIMEZONE
BEGIN:VEVENT
DTSTART;TZID=Europe/Helsinki:20250605T080000
DTEND;TZID=Europe/Helsinki:20250622T170000
DTSTAMP:20260421T203738
CREATED:20250605T160238Z
LAST-MODIFIED:20250605T160946Z
UID:15163-1749110400-1750611600@www.vehkalahdenveikot.fi
SUMMARY:KSOY -omatoimirastit Laantinkulma vko 23-25
DESCRIPTION:KSOY -omatoimirastit … näillä viikoilla VÄYLÄSUUNNISTUS. Radan pituus noin 5 km.  Tarkoitus  on kulkea väylää  pitkin ja  löytää maaliin.  Laantientie 187. \nOhessa  Ilmolinkki:https://forms.gle/2jLL4jBTiSy5ZumQA
URL:https://www.vehkalahdenveikot.fi/event/ksoy-omatoimirastit-laantinkulma-vko-23-25/
END:VEVENT
END:VCALENDAR