BEGIN:VCALENDAR
VERSION:2.0
PRODID:-//Vehkalahden Veikot - ECPv6.15.20//NONSGML v1.0//EN
CALSCALE:GREGORIAN
METHOD:PUBLISH
X-ORIGINAL-URL:https://www.vehkalahdenveikot.fi
X-WR-CALDESC:Tapahtumat Vehkalahden Veikot
REFRESH-INTERVAL;VALUE=DURATION:PT1H
X-Robots-Tag:noindex
X-PUBLISHED-TTL:PT1H
BEGIN:VTIMEZONE
TZID:Europe/Helsinki
BEGIN:DAYLIGHT
TZOFFSETFROM:+0200
TZOFFSETTO:+0300
TZNAME:EEST
DTSTART:20240331T010000
END:DAYLIGHT
BEGIN:STANDARD
TZOFFSETFROM:+0300
TZOFFSETTO:+0200
TZNAME:EET
DTSTART:20241027T010000
END:STANDARD
BEGIN:DAYLIGHT
TZOFFSETFROM:+0200
TZOFFSETTO:+0300
TZNAME:EEST
DTSTART:20250330T010000
END:DAYLIGHT
BEGIN:STANDARD
TZOFFSETFROM:+0300
TZOFFSETTO:+0200
TZNAME:EET
DTSTART:20251026T010000
END:STANDARD
BEGIN:DAYLIGHT
TZOFFSETFROM:+0200
TZOFFSETTO:+0300
TZNAME:EEST
DTSTART:20260329T010000
END:DAYLIGHT
BEGIN:STANDARD
TZOFFSETFROM:+0300
TZOFFSETTO:+0200
TZNAME:EET
DTSTART:20261025T010000
END:STANDARD
END:VTIMEZONE
BEGIN:VEVENT
DTSTART;TZID=Europe/Helsinki:20250527T080000
DTEND;TZID=Europe/Helsinki:20250608T230000
DTSTAMP:20260421T203854
CREATED:20250526T155543Z
LAST-MODIFIED:20250526T160844Z
UID:15145-1748332800-1749423600@www.vehkalahdenveikot.fi
SUMMARY:KSOY-omatoimirastit Husula
DESCRIPTION:KSOY-omatoimirastit  Husula  Suutarlampi kartalla. \nLisätietoja  KSOY-omatoimirastit. \nKARTTATILAUSLINKKI:https://forms.gle/HTobPJ4rdy8WYAja7
URL:https://www.vehkalahdenveikot.fi/event/ksoy-omatoimirastit-husula/
CATEGORIES:Suunnistus
END:VEVENT
BEGIN:VEVENT
DTSTART;TZID=Europe/Helsinki:20250605T080000
DTEND;TZID=Europe/Helsinki:20250622T170000
DTSTAMP:20260421T203854
CREATED:20250605T160238Z
LAST-MODIFIED:20250605T160946Z
UID:15163-1749110400-1750611600@www.vehkalahdenveikot.fi
SUMMARY:KSOY -omatoimirastit Laantinkulma vko 23-25
DESCRIPTION:KSOY -omatoimirastit … näillä viikoilla VÄYLÄSUUNNISTUS. Radan pituus noin 5 km.  Tarkoitus  on kulkea väylää  pitkin ja  löytää maaliin.  Laantientie 187. \nOhessa  Ilmolinkki:https://forms.gle/2jLL4jBTiSy5ZumQA
URL:https://www.vehkalahdenveikot.fi/event/ksoy-omatoimirastit-laantinkulma-vko-23-25/
END:VEVENT
BEGIN:VEVENT
DTSTART;TZID=Europe/Helsinki:20250605T170000
DTEND;TZID=Europe/Helsinki:20250605T200000
DTSTAMP:20260421T203854
CREATED:20250512T180253Z
LAST-MODIFIED:20250512T180253Z
UID:15021-1749142800-1749153600@www.vehkalahdenveikot.fi
SUMMARY:Rannikkorastit /Metsäkylä\, Lakaliini
DESCRIPTION:Ratamestari Simo Suutari\nJärjestäjä Tiina Kiri\nTulospalvelu Liisa Kriktilä\nLisätiedot Rannikkorastien sivuilta.
URL:https://www.vehkalahdenveikot.fi/event/rannikkorastit-metsakyla-lakaliini/
END:VEVENT
END:VCALENDAR