BEGIN:VCALENDAR
VERSION:2.0
PRODID:-//Vehkalahden Veikot - ECPv6.15.20//NONSGML v1.0//EN
CALSCALE:GREGORIAN
METHOD:PUBLISH
X-WR-CALNAME:Vehkalahden Veikot
X-ORIGINAL-URL:https://www.vehkalahdenveikot.fi
X-WR-CALDESC:Tapahtumat Vehkalahden Veikot
REFRESH-INTERVAL;VALUE=DURATION:PT1H
X-Robots-Tag:noindex
X-PUBLISHED-TTL:PT1H
BEGIN:VTIMEZONE
TZID:Europe/Helsinki
BEGIN:DAYLIGHT
TZOFFSETFROM:+0200
TZOFFSETTO:+0300
TZNAME:EEST
DTSTART:20240331T010000
END:DAYLIGHT
BEGIN:STANDARD
TZOFFSETFROM:+0300
TZOFFSETTO:+0200
TZNAME:EET
DTSTART:20241027T010000
END:STANDARD
BEGIN:DAYLIGHT
TZOFFSETFROM:+0200
TZOFFSETTO:+0300
TZNAME:EEST
DTSTART:20250330T010000
END:DAYLIGHT
BEGIN:STANDARD
TZOFFSETFROM:+0300
TZOFFSETTO:+0200
TZNAME:EET
DTSTART:20251026T010000
END:STANDARD
BEGIN:DAYLIGHT
TZOFFSETFROM:+0200
TZOFFSETTO:+0300
TZNAME:EEST
DTSTART:20260329T010000
END:DAYLIGHT
BEGIN:STANDARD
TZOFFSETFROM:+0300
TZOFFSETTO:+0200
TZNAME:EET
DTSTART:20261025T010000
END:STANDARD
END:VTIMEZONE
BEGIN:VEVENT
DTSTART;TZID=Europe/Helsinki:20250513T080000
DTEND;TZID=Europe/Helsinki:20250525T190000
DTSTAMP:20260421T220053
CREATED:20250512T190758Z
LAST-MODIFIED:20250512T190758Z
UID:15044-1747123200-1748199600@www.vehkalahdenveikot.fi
SUMMARY:KSOY omatoimirastit /Kannusjärvi
DESCRIPTION:KSOY omatoimirastit Kannusjärvellä. \nP -paikka  Näkintie 117.\nLisätietoja VeVen sivuilta /KSOY  omatoimirastit
URL:https://www.vehkalahdenveikot.fi/event/ksoy-omatoimirastit-kannusjarvi/
END:VEVENT
BEGIN:VEVENT
DTSTART;TZID=Europe/Helsinki:20250521T180000
DTEND;TZID=Europe/Helsinki:20250521T190000
DTSTAMP:20260421T220053
CREATED:20250512T190406Z
LAST-MODIFIED:20250512T190406Z
UID:15042-1747850400-1747854000@www.vehkalahdenveikot.fi
SUMMARY:HIPPO suunnistus/Ruissalo ampumastadion
DESCRIPTION:Hipposunnistus  kokoontuu  klo 18  Ruissalon ampumastadionille. Teemana  Viivasuunnistus!
URL:https://www.vehkalahdenveikot.fi/event/hippo-suunnistus-ruissalo-ampumastadion/
END:VEVENT
BEGIN:VEVENT
DTSTART;TZID=Europe/Helsinki:20250521T180000
DTEND;TZID=Europe/Helsinki:20250521T193000
DTSTAMP:20260421T220053
CREATED:20250518T185430Z
LAST-MODIFIED:20250520T181805Z
UID:15120-1747850400-1747855800@www.vehkalahdenveikot.fi
SUMMARY:Suunnistusharjoitus ke 21.5.
DESCRIPTION:Valmennusryhmän suunnistusharjoitus… valmistautumista SM -keskimatkalle.\nKuulumme Suunnistusliiton Suunta -Huipulle yhteistyöryhmään.\nKarttamaksut seuran sivuilla  olevan hinnaston mukaan muille\, kuin kausipaketin omaviille tai sopimusurheilijoille\,  ohessa  ne  vielä alla. \nIlmot linkin kautta:\nhttps://forms.gle/nYLtvcXXRZSm1ZLq8 \nIlmoittautuneet:\nhttps://docs.google.com/spreadsheets/d/1z4zznkQHWRI4hTXvb579kRjWJi8l-L6ab6Ru3spAhqo/edit?usp=sharing \nKarttamaksut seuraavan hinnaston mukaan muille: \nHarjoitukset ovat avoimia! Karttalaskut laskutetaan kauden jälkeen seuroja. \nSuunnistusharjoitus 6 €/kartta. \nKSOY-omatoimirastien kanssa suunnistusharjoitus 5€ /kartta \nKSOY-omatoimirastien muokattu suunnistusharjoitus 8€ eur/kartta. \nRannikkorastien kanssa harjoitus 8 €/kartta. \nRannikkorastien muokattu suunnistusharjoitus 8€ /kartta.
URL:https://www.vehkalahdenveikot.fi/event/suunnistusharjoitus-ke-21-5/
CATEGORIES:Suunnistus
END:VEVENT
END:VCALENDAR