BEGIN:VCALENDAR
VERSION:2.0
PRODID:-//Vehkalahden Veikot - ECPv6.15.20//NONSGML v1.0//EN
CALSCALE:GREGORIAN
METHOD:PUBLISH
X-ORIGINAL-URL:https://www.vehkalahdenveikot.fi
X-WR-CALDESC:Tapahtumat Vehkalahden Veikot
REFRESH-INTERVAL;VALUE=DURATION:PT1H
X-Robots-Tag:noindex
X-PUBLISHED-TTL:PT1H
BEGIN:VTIMEZONE
TZID:Europe/Helsinki
BEGIN:DAYLIGHT
TZOFFSETFROM:+0200
TZOFFSETTO:+0300
TZNAME:EEST
DTSTART:20240331T010000
END:DAYLIGHT
BEGIN:STANDARD
TZOFFSETFROM:+0300
TZOFFSETTO:+0200
TZNAME:EET
DTSTART:20241027T010000
END:STANDARD
BEGIN:DAYLIGHT
TZOFFSETFROM:+0200
TZOFFSETTO:+0300
TZNAME:EEST
DTSTART:20250330T010000
END:DAYLIGHT
BEGIN:STANDARD
TZOFFSETFROM:+0300
TZOFFSETTO:+0200
TZNAME:EET
DTSTART:20251026T010000
END:STANDARD
BEGIN:DAYLIGHT
TZOFFSETFROM:+0200
TZOFFSETTO:+0300
TZNAME:EEST
DTSTART:20260329T010000
END:DAYLIGHT
BEGIN:STANDARD
TZOFFSETFROM:+0300
TZOFFSETTO:+0200
TZNAME:EET
DTSTART:20261025T010000
END:STANDARD
END:VTIMEZONE
BEGIN:VEVENT
DTSTART;TZID=Europe/Helsinki:20250507T180000
DTEND;TZID=Europe/Helsinki:20250507T193000
DTSTAMP:20260421T221403
CREATED:20250504T145158Z
LAST-MODIFIED:20250504T150146Z
UID:14988-1746640800-1746646200@www.vehkalahdenveikot.fi
SUMMARY:Valmennusryhmä  Paijärvi
DESCRIPTION:Valmennusryhmä treenit Paijärvellä  Hanisuontie 58. Kokoontuminen klo 18.\nYhteislähtö hajonnoin. \nIlmolinkki:\nhttps://forms.gle/x6QzBim3QtpNpfBT8 \nIlmoittautuneet:\nhttps://forms.gle/UtZwCVRVCZz7wSto8
URL:https://www.vehkalahdenveikot.fi/event/valmennusryhma-ke-7-5/
END:VEVENT
END:VCALENDAR