BEGIN:VCALENDAR
VERSION:2.0
PRODID:-//Vehkalahden Veikot - ECPv6.15.20//NONSGML v1.0//EN
CALSCALE:GREGORIAN
METHOD:PUBLISH
X-ORIGINAL-URL:https://www.vehkalahdenveikot.fi
X-WR-CALDESC:Tapahtumat Vehkalahden Veikot
REFRESH-INTERVAL;VALUE=DURATION:PT1H
X-Robots-Tag:noindex
X-PUBLISHED-TTL:PT1H
BEGIN:VTIMEZONE
TZID:Europe/Helsinki
BEGIN:DAYLIGHT
TZOFFSETFROM:+0200
TZOFFSETTO:+0300
TZNAME:EEST
DTSTART:20240331T010000
END:DAYLIGHT
BEGIN:STANDARD
TZOFFSETFROM:+0300
TZOFFSETTO:+0200
TZNAME:EET
DTSTART:20241027T010000
END:STANDARD
BEGIN:DAYLIGHT
TZOFFSETFROM:+0200
TZOFFSETTO:+0300
TZNAME:EEST
DTSTART:20250330T010000
END:DAYLIGHT
BEGIN:STANDARD
TZOFFSETFROM:+0300
TZOFFSETTO:+0200
TZNAME:EET
DTSTART:20251026T010000
END:STANDARD
BEGIN:DAYLIGHT
TZOFFSETFROM:+0200
TZOFFSETTO:+0300
TZNAME:EEST
DTSTART:20260329T010000
END:DAYLIGHT
BEGIN:STANDARD
TZOFFSETFROM:+0300
TZOFFSETTO:+0200
TZNAME:EET
DTSTART:20261025T010000
END:STANDARD
END:VTIMEZONE
BEGIN:VEVENT
DTSTART;TZID=Europe/Helsinki:20250506T170000
DTEND;TZID=Europe/Helsinki:20250506T200000
DTSTAMP:20260421T221345
CREATED:20250430T191038Z
LAST-MODIFIED:20250430T191152Z
UID:14969-1746550800-1746561600@www.vehkalahdenveikot.fi
SUMMARY:Rannikkorastit Sprintti Hamina
DESCRIPTION:Haminan liikuntahallin luona on tapahtumakeskus. SUUNNISTAJAN KAUPPA MAHDOLLISESTI MUKANA ! \nRatamestari on Jukka Hakulinen.\nTulospalvelu ja järjestäjä on  Ilkka ja  Sari Takanen\nLisätietoja  Rannikkorastit 2025
URL:https://www.vehkalahdenveikot.fi/event/rannikkorastit-sprintti-hamina/
CATEGORIES:Suunnistus
END:VEVENT
BEGIN:VEVENT
DTSTART;TZID=Europe/Helsinki:20250506T180000
DTEND;TZID=Europe/Helsinki:20250506T190000
DTSTAMP:20260421T221345
CREATED:20250430T191352Z
LAST-MODIFIED:20250504T165321Z
UID:14972-1746554400-1746558000@www.vehkalahdenveikot.fi
SUMMARY:HIPPOHARKAT ja valmennusryhmä
DESCRIPTION:Hippoharkat  ja valmennusryhmän harkat pidetään Haminan liikuntahallin luona ulkona.\nKokoontuminen klo 18.\nHippokoululaiset ilmoittautuvat omalla hipposuunnistuslinkillä kaikille  kerroille tällä samalla  linkillä:\n https://forms.gle/4qGmokTjkX3Qj2kr5 \nVoi ilmoittautua myös paikan päällä. \nValmennusryhmäläiset ilmoittautuvat oheisella linkillä:\nhttps://forms.gle/QU8c3mxcvdt9tpSQ8 \nIlmoittautuneet:\nhttps://docs.google.com/spreadsheets/d/1K6irzkPBBW6PGgCLydtnZeC4s8Bmck603k7BBrD_e7U/edit?usp=sharing
URL:https://www.vehkalahdenveikot.fi/event/hippoharkat/
CATEGORIES:Suunnistus
END:VEVENT
END:VCALENDAR