BEGIN:VCALENDAR
VERSION:2.0
PRODID:-//Vehkalahden Veikot - ECPv6.15.20//NONSGML v1.0//EN
CALSCALE:GREGORIAN
METHOD:PUBLISH
X-ORIGINAL-URL:https://www.vehkalahdenveikot.fi
X-WR-CALDESC:Tapahtumat Vehkalahden Veikot
REFRESH-INTERVAL;VALUE=DURATION:PT1H
X-Robots-Tag:noindex
X-PUBLISHED-TTL:PT1H
BEGIN:VTIMEZONE
TZID:Europe/Helsinki
BEGIN:DAYLIGHT
TZOFFSETFROM:+0200
TZOFFSETTO:+0300
TZNAME:EEST
DTSTART:20240331T010000
END:DAYLIGHT
BEGIN:STANDARD
TZOFFSETFROM:+0300
TZOFFSETTO:+0200
TZNAME:EET
DTSTART:20241027T010000
END:STANDARD
BEGIN:DAYLIGHT
TZOFFSETFROM:+0200
TZOFFSETTO:+0300
TZNAME:EEST
DTSTART:20250330T010000
END:DAYLIGHT
BEGIN:STANDARD
TZOFFSETFROM:+0300
TZOFFSETTO:+0200
TZNAME:EET
DTSTART:20251026T010000
END:STANDARD
BEGIN:DAYLIGHT
TZOFFSETFROM:+0200
TZOFFSETTO:+0300
TZNAME:EEST
DTSTART:20260329T010000
END:DAYLIGHT
BEGIN:STANDARD
TZOFFSETFROM:+0300
TZOFFSETTO:+0200
TZNAME:EET
DTSTART:20261025T010000
END:STANDARD
END:VTIMEZONE
BEGIN:VEVENT
DTSTART;TZID=Europe/Helsinki:20250415T100000
DTEND;TZID=Europe/Helsinki:20250427T190000
DTSTAMP:20260421T234720
CREATED:20250415T102930Z
LAST-MODIFIED:20250415T104906Z
UID:14901-1744711200-1745780400@www.vehkalahdenveikot.fi
SUMMARY:KSOY omatoimirastit MYLLYKYLÄ LEIRIKANGAS
DESCRIPTION:Lisätietoja  VeVen sivuilta  KSOY-omatoimirastit
URL:https://www.vehkalahdenveikot.fi/event/ksoy-omatoimirastit-myllykyla-leirikangas/
END:VEVENT
BEGIN:VEVENT
DTSTART;TZID=Europe/Helsinki:20250416T173000
DTEND;TZID=Europe/Helsinki:20250416T190000
DTSTAMP:20260421T234720
CREATED:20250401T192435Z
LAST-MODIFIED:20250414T050457Z
UID:14763-1744824600-1744830000@www.vehkalahdenveikot.fi
SUMMARY:Valmennusryhmä suunnistus
DESCRIPTION:Valmennusryhmän harkat pidetään Onkamaan Tomppolassa. Samassa paikassa kuin Ruotsin maajoukkue treenailee. Kokoontuminen  klo 17.30  Vaalimaantie 75. Maajoukkuerataa voi lyhentää.\nUlkopuolisilta  6  eur/kartta. Laskutetaan  jälkikäteen. \nIlmolinkki:    https://forms.gle/DZ2n3bZDqL57atzY8 \nILmoittautuneet: https://docs.google.com/spreadsheets/d/1awUB-YETAW2VTt6e3M-_dPEdn_L9tj91nlZ13FwgJZI/edit?usp=sharing
URL:https://www.vehkalahdenveikot.fi/event/valmennusryhma-suunnistus/
CATEGORIES:Suunnistus
END:VEVENT
END:VCALENDAR