BEGIN:VCALENDAR
VERSION:2.0
PRODID:-//Vehkalahden Veikot - ECPv6.15.20//NONSGML v1.0//EN
CALSCALE:GREGORIAN
METHOD:PUBLISH
X-WR-CALNAME:Vehkalahden Veikot
X-ORIGINAL-URL:https://www.vehkalahdenveikot.fi
X-WR-CALDESC:Tapahtumat Vehkalahden Veikot
REFRESH-INTERVAL;VALUE=DURATION:PT1H
X-Robots-Tag:noindex
X-PUBLISHED-TTL:PT1H
BEGIN:VTIMEZONE
TZID:Europe/Helsinki
BEGIN:DAYLIGHT
TZOFFSETFROM:+0200
TZOFFSETTO:+0300
TZNAME:EEST
DTSTART:20240331T010000
END:DAYLIGHT
BEGIN:STANDARD
TZOFFSETFROM:+0300
TZOFFSETTO:+0200
TZNAME:EET
DTSTART:20241027T010000
END:STANDARD
BEGIN:DAYLIGHT
TZOFFSETFROM:+0200
TZOFFSETTO:+0300
TZNAME:EEST
DTSTART:20250330T010000
END:DAYLIGHT
BEGIN:STANDARD
TZOFFSETFROM:+0300
TZOFFSETTO:+0200
TZNAME:EET
DTSTART:20251026T010000
END:STANDARD
BEGIN:DAYLIGHT
TZOFFSETFROM:+0200
TZOFFSETTO:+0300
TZNAME:EEST
DTSTART:20260329T010000
END:DAYLIGHT
BEGIN:STANDARD
TZOFFSETFROM:+0300
TZOFFSETTO:+0200
TZNAME:EET
DTSTART:20261025T010000
END:STANDARD
END:VTIMEZONE
BEGIN:VEVENT
DTSTART;TZID=Europe/Helsinki:20250401T100000
DTEND;TZID=Europe/Helsinki:20250413T210000
DTSTAMP:20260421T234452
CREATED:20250401T193801Z
LAST-MODIFIED:20250407T045829Z
UID:14776-1743501600-1744578000@www.vehkalahdenveikot.fi
SUMMARY:KSOY-omatoimirastit
DESCRIPTION:KSOY-omatoimirastit auki Neuvottomassa  Mäkelänkankaalla. Lisätiedot: kuntorastit  sivuilla.
URL:https://www.vehkalahdenveikot.fi/event/ksoy-omatoimirastit/
CATEGORIES:Suunnistus
END:VEVENT
BEGIN:VEVENT
DTSTART;TZID=Europe/Helsinki:20250409T180000
DTEND;TZID=Europe/Helsinki:20250409T213000
DTSTAMP:20260421T234452
CREATED:20250407T050346Z
LAST-MODIFIED:20250407T164000Z
UID:14793-1744221600-1744234200@www.vehkalahdenveikot.fi
SUMMARY:Valmennusryhmän suunnistus
DESCRIPTION:Valmennusryhmän/nuorten harkat suunnistus pidetään Tikkamäessä ke 9.4. klo 18. Yösuunnistus  mahdollisuus  yhteislähtönä klo 20.30. maali sulkeutuu  klo 21.30. Emitit käytössä. \nParkki: Kapakkamäentie 96.\nIlmolinkki:https://forms.gle/QkBQRbGAJWBNfZ419 \nOsallistujat: \n tps://docs.google.com/spreadsheets/d/11QRHnYBV2OTApOM1s9eSgyJu09dXbK9_nEEiJzPzFJ8/edit?usp=sharing
URL:https://www.vehkalahdenveikot.fi/event/valmennusryhman-suunnistus-3/
END:VEVENT
END:VCALENDAR