BEGIN:VCALENDAR
VERSION:2.0
PRODID:-//Vehkalahden Veikot - ECPv6.15.20//NONSGML v1.0//EN
CALSCALE:GREGORIAN
METHOD:PUBLISH
X-WR-CALNAME:Vehkalahden Veikot
X-ORIGINAL-URL:https://www.vehkalahdenveikot.fi
X-WR-CALDESC:Tapahtumat Vehkalahden Veikot
REFRESH-INTERVAL;VALUE=DURATION:PT1H
X-Robots-Tag:noindex
X-PUBLISHED-TTL:PT1H
BEGIN:VTIMEZONE
TZID:Europe/Helsinki
BEGIN:DAYLIGHT
TZOFFSETFROM:+0200
TZOFFSETTO:+0300
TZNAME:EEST
DTSTART:20230326T010000
END:DAYLIGHT
BEGIN:STANDARD
TZOFFSETFROM:+0300
TZOFFSETTO:+0200
TZNAME:EET
DTSTART:20231029T010000
END:STANDARD
BEGIN:DAYLIGHT
TZOFFSETFROM:+0200
TZOFFSETTO:+0300
TZNAME:EEST
DTSTART:20240331T010000
END:DAYLIGHT
BEGIN:STANDARD
TZOFFSETFROM:+0300
TZOFFSETTO:+0200
TZNAME:EET
DTSTART:20241027T010000
END:STANDARD
BEGIN:DAYLIGHT
TZOFFSETFROM:+0200
TZOFFSETTO:+0300
TZNAME:EEST
DTSTART:20250330T010000
END:DAYLIGHT
BEGIN:STANDARD
TZOFFSETFROM:+0300
TZOFFSETTO:+0200
TZNAME:EET
DTSTART:20251026T010000
END:STANDARD
END:VTIMEZONE
BEGIN:VEVENT
DTSTART;TZID=Europe/Helsinki:20241015T183000
DTEND;TZID=Europe/Helsinki:20241015T203000
DTSTAMP:20260422T104802
CREATED:20241012T150952Z
LAST-MODIFIED:20241014T192346Z
UID:14418-1729017000-1729024200@www.vehkalahdenveikot.fi
SUMMARY:KOTHAMCUP
DESCRIPTION:Mäkelänkangas  1. KOTHAMCUP  2024 Mäkelänkankaalla.\nLähtö auki \, MUUTettu  aika 18.30-19\,   Maali sulkeutuu 20.30. \nEnnakkoilmot  viim. ti 15.10.   klo 8.\nPaikanpäällä  ilmoittautuneille tulostetaan muutama  ylimääräinen kartta. \nOpastus  paikalle MT170\, Mäkelänkangas.\nOhjeet   löytyvät KOTHAMCUPIN virallisilta sivuilta\, johon myös tulokset tulevat. \nNyt kannattaa  kaikkien  tulla  kokeilemaan yösuunnistusta Neuvottomaan  Mäkelänkankaalle! \nOhessa  ilmolinkki:\nhttps://forms.gle/YeMJEqLR7DYSFAdt9 \nOhessa  ilmo \nhttps://docs.google.com/spreadsheets/d/1px-5UbL3VRptqoluqXnHTVn3-7osnyIsnQn0J6_5dN0/edit?usp=sharing \nJärjestäjä:  VeVe
URL:https://www.vehkalahdenveikot.fi/event/kothamcup/
END:VEVENT
END:VCALENDAR