BEGIN:VCALENDAR
VERSION:2.0
PRODID:-//Vehkalahden Veikot - ECPv6.15.20//NONSGML v1.0//EN
CALSCALE:GREGORIAN
METHOD:PUBLISH
X-WR-CALNAME:Vehkalahden Veikot
X-ORIGINAL-URL:https://www.vehkalahdenveikot.fi
X-WR-CALDESC:Tapahtumat Vehkalahden Veikot
REFRESH-INTERVAL;VALUE=DURATION:PT1H
X-Robots-Tag:noindex
X-PUBLISHED-TTL:PT1H
BEGIN:VTIMEZONE
TZID:Europe/Helsinki
BEGIN:DAYLIGHT
TZOFFSETFROM:+0200
TZOFFSETTO:+0300
TZNAME:EEST
DTSTART:20240331T010000
END:DAYLIGHT
BEGIN:STANDARD
TZOFFSETFROM:+0300
TZOFFSETTO:+0200
TZNAME:EET
DTSTART:20241027T010000
END:STANDARD
BEGIN:DAYLIGHT
TZOFFSETFROM:+0200
TZOFFSETTO:+0300
TZNAME:EEST
DTSTART:20250330T010000
END:DAYLIGHT
BEGIN:STANDARD
TZOFFSETFROM:+0300
TZOFFSETTO:+0200
TZNAME:EET
DTSTART:20251026T010000
END:STANDARD
BEGIN:DAYLIGHT
TZOFFSETFROM:+0200
TZOFFSETTO:+0300
TZNAME:EEST
DTSTART:20260329T010000
END:DAYLIGHT
BEGIN:STANDARD
TZOFFSETFROM:+0300
TZOFFSETTO:+0200
TZNAME:EET
DTSTART:20261025T010000
END:STANDARD
END:VTIMEZONE
BEGIN:VEVENT
DTSTART;TZID=Europe/Helsinki:20251106T180000
DTEND;TZID=Europe/Helsinki:20251106T190000
DTSTAMP:20260421T120448
CREATED:20251026T165935Z
LAST-MODIFIED:20251203T193433Z
UID:15664-1762452000-1762455600@www.vehkalahdenveikot.fi
SUMMARY:Suunnistajien lihaskuntotreeni
DESCRIPTION:Vehkalinnassa yli 15- vuotiaille! \nLisätiedot ansku.heikkinen10@gmail.com
URL:https://www.vehkalahdenveikot.fi/event/suunnistajien-lihaskuntotreeni/
CATEGORIES:Suunnistus
END:VEVENT
BEGIN:VEVENT
DTSTART;TZID=Europe/Helsinki:20251113T180000
DTEND;TZID=Europe/Helsinki:20251113T190000
DTSTAMP:20260421T120448
CREATED:20251026T170051Z
LAST-MODIFIED:20251203T193551Z
UID:15666-1763056800-1763060400@www.vehkalahdenveikot.fi
SUMMARY:Suunnistajien lihaskuntotreeni
DESCRIPTION:Vehkalinnassa yli 15- vuotiaille! \nLisätiedot ansku.heikkinen10@gmail.com
URL:https://www.vehkalahdenveikot.fi/event/suunnistajien-lihaskuntotreeni-2/
CATEGORIES:Suunnistus
END:VEVENT
BEGIN:VEVENT
DTSTART;TZID=Europe/Helsinki:20251114T180000
DTEND;TZID=Europe/Helsinki:20251116T120000
DTSTAMP:20260421T120448
CREATED:20251112T195014Z
LAST-MODIFIED:20251112T195014Z
UID:15699-1763143200-1763294400@www.vehkalahdenveikot.fi
SUMMARY:Suunnistajien kotileiri
DESCRIPTION:Suunnistajien kotileiri pe  klo 18 yösuunnistus\, la klo 11 suunnistusvedot ja  klo 13 palaveri\, su klo 10  pitkä lenkki. Lisätiedot ja ilmot whatsapryhmä.\nTiedustelut: Janne  Weckman
URL:https://www.vehkalahdenveikot.fi/event/suunnistajien-kotileiri/
END:VEVENT
BEGIN:VEVENT
DTSTART;TZID=Europe/Helsinki:20251120T180000
DTEND;TZID=Europe/Helsinki:20251120T190000
DTSTAMP:20260421T120448
CREATED:20251026T170153Z
LAST-MODIFIED:20251203T194053Z
UID:15668-1763661600-1763665200@www.vehkalahdenveikot.fi
SUMMARY:Suunnistajien lihaskuntotreeni
DESCRIPTION:Vehkalinnassa yli 15- vuotiaille! \nLisätiedot ansku.heikkinen@gmail.com
URL:https://www.vehkalahdenveikot.fi/event/suunnistajien-lihaskuntotreeni-3/
END:VEVENT
BEGIN:VEVENT
DTSTART;TZID=Europe/Helsinki:20251127T180000
DTEND;TZID=Europe/Helsinki:20251127T190000
DTSTAMP:20260421T120448
CREATED:20251026T170301Z
LAST-MODIFIED:20251203T193922Z
UID:15670-1764266400-1764270000@www.vehkalahdenveikot.fi
SUMMARY:Suunnistajien lihaskuntotreeni
DESCRIPTION:Vehkalinnassa yli 15- vuotiaille! \nLisätiedot ansku.heikkinen10@gmail.com
URL:https://www.vehkalahdenveikot.fi/event/suunnistajien-lihaskuntotreeni-4/
CATEGORIES:Suunnistus
END:VEVENT
END:VCALENDAR