BEGIN:VCALENDAR
VERSION:2.0
PRODID:-//Vehkalahden Veikot - ECPv6.15.20//NONSGML v1.0//EN
CALSCALE:GREGORIAN
METHOD:PUBLISH
X-WR-CALNAME:Vehkalahden Veikot
X-ORIGINAL-URL:https://www.vehkalahdenveikot.fi
X-WR-CALDESC:Tapahtumat Vehkalahden Veikot
REFRESH-INTERVAL;VALUE=DURATION:PT1H
X-Robots-Tag:noindex
X-PUBLISHED-TTL:PT1H
BEGIN:VTIMEZONE
TZID:Europe/Helsinki
BEGIN:DAYLIGHT
TZOFFSETFROM:+0200
TZOFFSETTO:+0300
TZNAME:EEST
DTSTART:20240331T010000
END:DAYLIGHT
BEGIN:STANDARD
TZOFFSETFROM:+0300
TZOFFSETTO:+0200
TZNAME:EET
DTSTART:20241027T010000
END:STANDARD
BEGIN:DAYLIGHT
TZOFFSETFROM:+0200
TZOFFSETTO:+0300
TZNAME:EEST
DTSTART:20250330T010000
END:DAYLIGHT
BEGIN:STANDARD
TZOFFSETFROM:+0300
TZOFFSETTO:+0200
TZNAME:EET
DTSTART:20251026T010000
END:STANDARD
BEGIN:DAYLIGHT
TZOFFSETFROM:+0200
TZOFFSETTO:+0300
TZNAME:EEST
DTSTART:20260329T010000
END:DAYLIGHT
BEGIN:STANDARD
TZOFFSETFROM:+0300
TZOFFSETTO:+0200
TZNAME:EET
DTSTART:20261025T010000
END:STANDARD
END:VTIMEZONE
BEGIN:VEVENT
DTSTART;TZID=Europe/Helsinki:20250726T120000
DTEND;TZID=Europe/Helsinki:20250807T210000
DTSTAMP:20260421T160421
CREATED:20250726T105129Z
LAST-MODIFIED:20250726T105129Z
UID:15324-1753531200-1754600400@www.vehkalahdenveikot.fi
SUMMARY:Avoimet ilmaiset pyörärastit
DESCRIPTION:Husulan Kunto tarjoaa kaikille avoimet pyörärastit. Reitin pituuus  on linnuntietä   n. 7km\, mutta  kiertän tulee  jonkin verran pidempi. Rasteilla isot liput. Suositeltu pyörä: maastopyörä. Lähtöpaikka  on Ruissalon ampumaradan koppi. Karttoja saatavilla Vehkalinnan kalliolla  olevasta punaisesta postilaatikosta  muovitaskusta.  Rastit auki  7.8.asti.Laita  nimi listaan\, kun otat kartan\, niin saadaan kävijämäärä  selville.\nSamassa  postilaatikossa kansiossa on KSOY-omatoimirastikarttoja\, niiden hinta on 5 eur/kpl ja  niistä lisätietoja KSOY-omatoimirastit sivulla. \nNauttikaa  lämmöstä  ja juomista mukaan matkalle.\nToivottelee ratamestari ”kesäheinä” Roosa Heikkinen
URL:https://www.vehkalahdenveikot.fi/event/avoimet-ilmaiset-pyorarastit/
CATEGORIES:Husulan Kunto,Suunnistus
END:VEVENT
BEGIN:VEVENT
DTSTART;TZID=Europe/Helsinki:20250805T100000
DTEND;TZID=Europe/Helsinki:20250817T190000
DTSTAMP:20260421T160421
CREATED:20250805T131041Z
LAST-MODIFIED:20250805T131041Z
UID:15352-1754388000-1755457200@www.vehkalahdenveikot.fi
SUMMARY:KSOY-omatoimirastit Husula
DESCRIPTION:KSOY-omatoimirastit  32 ja 33  Husulan Vehkalinnassa.  Lisätietoa  VeVen sivuilta KSOY-omatoimirastit.
URL:https://www.vehkalahdenveikot.fi/event/ksoy-omatoimirastit-husula-2/
CATEGORIES:Suunnistus
END:VEVENT
BEGIN:VEVENT
DTSTART;TZID=Europe/Helsinki:20250814T170000
DTEND;TZID=Europe/Helsinki:20250814T200000
DTSTAMP:20260421T160421
CREATED:20250512T181845Z
LAST-MODIFIED:20250812T144935Z
UID:15035-1755190800-1755201600@www.vehkalahdenveikot.fi
SUMMARY:Rannikkorastit/ Myllykylä Leirikangas
DESCRIPTION:Ratamestari Pekka Fincke\nJärjestäjä Pekka FIncke\nTulospalvelu Suvi Mannoja \nTervetuloa Myllykylään tutulle Leirikankaan kartalle. Maastossa on järjestetty iltarasteja jo kymmeniä vuosia\, mutta aina löytyy uusia hyviä rastipisteitä ja metsätkin muuttuvat vähitellen. En ole hirveästi helpottanut A – ja B- ratoja\, tie- ja polkuvälejä ei tarjota. D rata tukeutuu polkuihin\, C- radalla on helpotettu rastipisteitä. Maastohan on hyväkulkuista ja näkyvyys on pääasiassa hyvää\, mutta suunnistushaasteita löytyy.\nTarjolla on viestiharjoitus B- radalla\, jossa on hajontarasteja. Harjoitukseen osallistuvat ainakin Veven juniorit\, muutkin ovat tervetulleita. Kunnon viestiharjoitukseen tarvitaankin osanottajia runsaasti\, kannattaa osallistua rohkeasti harjoitukseen. Yhteislähtö on klo 18.00. B-radan voi tietysti juosta myös normaalina harjoituksena.\nRatamestari Pekka Fincke \nLisätietoja Rannikkorastien sivuilta.
URL:https://www.vehkalahdenveikot.fi/event/rannikkorastit-myllykyla-leirikangas/
END:VEVENT
BEGIN:VEVENT
DTSTART;TZID=Europe/Helsinki:20250819T120000
DTEND;TZID=Europe/Helsinki:20250831T190000
DTSTAMP:20260421T160421
CREATED:20250818T181907Z
LAST-MODIFIED:20250819T142142Z
UID:15423-1755604800-1756666800@www.vehkalahdenveikot.fi
SUMMARY:KSOY-omatoimirastit Kannusjärvi
DESCRIPTION:KSOY-omatoimirastit Kannusjärvellä.\nRastit ovat jo metsässä.   \nKarttatilauslinkki:https://forms.gle/ZBfr1o5ifVkd98oa9
URL:https://www.vehkalahdenveikot.fi/event/ksoy-omatoimirastit-kannusjarvi-2/
CATEGORIES:Suunnistus
END:VEVENT
BEGIN:VEVENT
DTSTART;TZID=Europe/Helsinki:20250820T180000
DTEND;TZID=Europe/Helsinki:20250820T193000
DTSTAMP:20260421T160421
CREATED:20250818T182310Z
LAST-MODIFIED:20250818T182420Z
UID:15425-1755712800-1755718200@www.vehkalahdenveikot.fi
SUMMARY:Suunnistusharkat
DESCRIPTION:VeVe järjestää  nuorten yhteisharkat….\nOhessa  ilmolomake.  Samassa ilmossa myös tämän viikon muut harjoitukset.\nTilaa kartat ke klo 12 mennessä.\nKarttatilauslinkki:https://forms.gle/LFjRKMzygotiVy8QA
URL:https://www.vehkalahdenveikot.fi/event/suunnistusharkat/
CATEGORIES:Suunnistus
END:VEVENT
BEGIN:VEVENT
DTSTART;TZID=Europe/Helsinki:20250822T180000
DTEND;TZID=Europe/Helsinki:20250823T110000
DTSTAMP:20260421T160421
CREATED:20250812T143934Z
LAST-MODIFIED:20250812T144620Z
UID:15384-1755885600-1755946800@www.vehkalahdenveikot.fi
SUMMARY:VeVe järjestää  JUNIONILEIRIN.
DESCRIPTION:SUUNNISTUSLEIRI KUTSU \nVeVe  järjestää nuorille (pääpaino 15-20 v) suunnatun leirin   Esijukola 2025 yhteydessä 22.-24.8.2025.\nKarttamaksu 10 eur/kartta. Määräpäivään mennessä tilatut kartat tuodaan lähtöpaikalle. Lasku kartoista lähetään seuralle.  DL 20.8.  VeVen sopimusurheilijoille ja  kausipaketin ostaneille ilmainen. \nOhjelma:\nPe 22.8 lähtö auki klo 18-18.30. Laantinkulma; Keskimatka. Osoite:Laantintie 187\nLa 23.8. lähtö auki  klo 10-10.30 Metsäkylä; Keskimatka.  Osoite: Valkjärventie 43\nSu Kotkan-Jukolan  järjestämä yhteislähtöharjoitus. Tästä tiedot Esijukola 2025 sivuilla. \nIlmoittaudun tällä linkillä VeVen järjestämiin harjoituksiin. Laita  karttatilauskohtaan  kartta Laantinkulma  ja /tai Metsäkylä ja  kartan perään kpl  määrä. Esim. Laantinkulma 15. Kartat tuodaan ko päivinä lähtöpaikoille. DL karttatilaukselle ke 20.8. \nhttps://forms.gle/jrhPGtaxYht9R5su8 \nTiedustelut  Suvi Mannoja  040 5621153
URL:https://www.vehkalahdenveikot.fi/event/veve-jarjestaa-junionileirin/
END:VEVENT
BEGIN:VEVENT
DTSTART;TZID=Europe/Helsinki:20250823T120000
DTEND;TZID=Europe/Helsinki:20250823T233000
DTSTAMP:20260421T160421
CREATED:20250805T131805Z
LAST-MODIFIED:20250805T132223Z
UID:15354-1755950400-1755991800@www.vehkalahdenveikot.fi
SUMMARY:ESIJUKOLA 2026 KOTKA
DESCRIPTION:Esijukola  2026  Kotkassa.\nOheisesta  linkistä  Kisakutsuun. \nClick to access Esi-Jukolan-23.8.2025-kilpailukutsu.pdf
URL:https://www.vehkalahdenveikot.fi/event/esijukola-2026-kotka/
CATEGORIES:Suunnistus
END:VEVENT
BEGIN:VEVENT
DTSTART;TZID=Europe/Helsinki:20250828T170000
DTEND;TZID=Europe/Helsinki:20250828T200000
DTSTAMP:20260421T160421
CREATED:20250812T152758Z
LAST-MODIFIED:20250812T152758Z
UID:15393-1756400400-1756411200@www.vehkalahdenveikot.fi
SUMMARY:Rannikkorastit Kattilainen Tomppola
DESCRIPTION:Ratamestari Daniel Koivisto.\nLisätietoja Rannikkorastien sivuilta.
URL:https://www.vehkalahdenveikot.fi/event/rannikkorastit-kattilainen-tomppola/
CATEGORIES:Suunnistus
END:VEVENT
END:VCALENDAR